BEGIN:VCALENDAR
VERSION:2.0
PRODID:-//Friends of the Inyo - ECPv6.15.20//NONSGML v1.0//EN
CALSCALE:GREGORIAN
METHOD:PUBLISH
X-WR-CALNAME:Friends of the Inyo
X-ORIGINAL-URL:https://friendsoftheinyo.org
X-WR-CALDESC:Events for Friends of the Inyo
REFRESH-INTERVAL;VALUE=DURATION:PT1H
X-Robots-Tag:noindex
X-PUBLISHED-TTL:PT1H
BEGIN:VTIMEZONE
TZID:America/Los_Angeles
BEGIN:DAYLIGHT
TZOFFSETFROM:-0800
TZOFFSETTO:-0700
TZNAME:PDT
DTSTART:20200308T100000
END:DAYLIGHT
BEGIN:STANDARD
TZOFFSETFROM:-0700
TZOFFSETTO:-0800
TZNAME:PST
DTSTART:20201101T090000
END:STANDARD
BEGIN:DAYLIGHT
TZOFFSETFROM:-0800
TZOFFSETTO:-0700
TZNAME:PDT
DTSTART:20210314T100000
END:DAYLIGHT
BEGIN:STANDARD
TZOFFSETFROM:-0700
TZOFFSETTO:-0800
TZNAME:PST
DTSTART:20211107T090000
END:STANDARD
BEGIN:DAYLIGHT
TZOFFSETFROM:-0800
TZOFFSETTO:-0700
TZNAME:PDT
DTSTART:20220313T100000
END:DAYLIGHT
BEGIN:STANDARD
TZOFFSETFROM:-0700
TZOFFSETTO:-0800
TZNAME:PST
DTSTART:20221106T090000
END:STANDARD
END:VTIMEZONE
BEGIN:VEVENT
DTSTART;TZID=America/Los_Angeles:20210619T080000
DTEND;TZID=America/Los_Angeles:20210619T150000
DTSTAMP:20260415T193408
CREATED:20210521T232732Z
LAST-MODIFIED:20210611T215407Z
UID:10000226-1624089600-1624114800@friendsoftheinyo.org
SUMMARY:Annual Rush Creek and June Lake Loop Trash Cleanup
DESCRIPTION:Join volunteers who have been cleaning up trash for over a decade along the June Lake Loop!\n*This event is organized by Joe Lemire and not Friends of the Inyo\, but he invites any volunteers or organizations to help spread the word. \nThe annual  Rush Creek and June Lake Loop Annual Clean Up is right around the corner. It’s scheduled for Saturday\, June 19\, 2021.\nInterested volunteers meet at 8:00AM at the Silver Lake boat ramp in the June Lake Loop. Volunteers will reconvene at the boat ramp at 11:30AM for barbequed hot dogs and refreshments. There will also be a free raffle for swag for everyone who participates. This is an opportunity to clean up the areas around Rush Creek\, and the June Lake Loop. Anyone interested in more information\, or if you’d like to donate\,\nplease contact organizer Joe Lemire at 909.609.1101. \nAll events on public lands are subject to approval by their respective land management partners\, and are not guaranteed in location\, number of participants\, or activity until permits are finalized.  \nPhoto: Sam Roberts
URL:https://friendsoftheinyo.org/event/annual-rush-creek-and-june-lake-loop-trash-cleanup/
LOCATION:Silver Lake Resort\, 6957 CA-158\, June Lake\, CA 93529\, June Lake CA\, CA\, 93529\, United States
ATTACH;FMTTYPE=image/jpeg:https://friendsoftheinyo.org/wp-content/uploads/2021/05/sam-roberts-rush-creek.jpg
GEO:37.7801104;-119.1287737
X-APPLE-STRUCTURED-LOCATION;VALUE=URI;X-ADDRESS=Silver Lake Resort 6957 CA-158 June Lake CA 93529 June Lake CA CA 93529 United States;X-APPLE-RADIUS=500;X-TITLE=6957 CA-158\, June Lake\, CA 93529:geo:-119.1287737,37.7801104
END:VEVENT
END:VCALENDAR